BEGIN:VCALENDAR
VERSION:2.0
PRODID:-//wp-events-plugin.com//7.2.2.3//EN
BEGIN:VEVENT
UID:10907@alte-werkstatt.org
DTSTART:20260422T081500Z
DTEND:20260422T093000Z
DTSTAMP:20260122T152641Z
URL:http://www.alte-werkstatt.org/veranstaltungen/gut-aufgerichtet-mit-fel
 denkrais-5-2026-04-22/
SUMMARY:Gut aufgerichtet mit Feldenkrais®
DESCRIPTION:10:15 - 11:30
CATEGORIES:Springer Lui Claudia
END:VEVENT
END:VCALENDAR