BEGIN:VCALENDAR
VERSION:2.0
PRODID:-//wp-events-plugin.com//7.2.2.3//EN
BEGIN:VEVENT
UID:10903@alte-werkstatt.org
DTSTART:20260325T081500Z
DTEND:20260325T093000Z
DTSTAMP:20260122T152520Z
URL:http://www.alte-werkstatt.org/veranstaltungen/gut-aufgerichtet-mit-fel
 denkrais-4-2026-03-25/
SUMMARY:Gut aufgerichtet mit Feldenkrais®
DESCRIPTION:10:15 - 11:30
CATEGORIES:Springer Lui Claudia
END:VEVENT
END:VCALENDAR