BEGIN:VCALENDAR
VERSION:2.0
PRODID:-//wp-events-plugin.com//7.2.2.3//EN
BEGIN:VEVENT
UID:1739@alte-werkstatt.org
DTSTART;TZID=Europe/Vienna:20160902T140000
DTEND;TZID=Europe/Vienna:20160904T170000
DTSTAMP:20160802T201047Z
URL:http://www.alte-werkstatt.org/veranstaltungen/gewaltfreie-kommunikatio
 n-vertiefungstraining/
SUMMARY:Gewaltfreie Kommunikation - Vertiefungstraining
DESCRIPTION:Freitag 16:00 - 19:00\nSamstag 10:00 - 18:00\nSonntag 10:00 - 1
 6:00\nDie Gewaltfreie Kommunikation hat dein Leben und deine Beziehungen b
 ereichert und du hast Lust auf mehr?
CATEGORIES:Lechner Christian &amp; Pelikan Irma
END:VEVENT
BEGIN:VTIMEZONE
TZID:Europe/Vienna
X-LIC-LOCATION:Europe/Vienna
BEGIN:DAYLIGHT
DTSTART:20160327T030000
TZOFFSETFROM:+0100
TZOFFSETTO:+0200
TZNAME:CEST
END:DAYLIGHT
END:VTIMEZONE
END:VCALENDAR