BEGIN:VCALENDAR
VERSION:2.0
PRODID:-//wp-events-plugin.com//7.2.2.3//EN
BEGIN:VEVENT
UID:1738@alte-werkstatt.org
DTSTART;TZID=Europe/Vienna:20160826T140000
DTEND;TZID=Europe/Vienna:20160828T170000
DTSTAMP:20160802T080547Z
URL:http://www.alte-werkstatt.org/veranstaltungen/gewaltfreie-kommunikatio
 n-einfuehrungsseminar/
SUMMARY:Gewaltfreie Kommunikation - Einführungsseminar
DESCRIPTION:Freitag 16:00 - 19:00\nSamstag 10:00 - 18:00\nSonntag 10:00 - 1
 6:00\nDas Einführungsseminar richtet sich an alle Menschen\, denen echter
  Kontakt mit sich und ihrer Mitwelt am Herzen liegt. Wir forschen an den G
 rundlagen eines wertschätzenden Miteinanders\, erkunden unsere Sprache un
 d erfahren an eigenen Erlebnissen und Beispielen was es heißt\, empathisc
 h und aufrichtig mit sich selbst und anderen umzugehen.
CATEGORIES:Lechner Christian &amp; Pelikan Irma
END:VEVENT
BEGIN:VTIMEZONE
TZID:Europe/Vienna
X-LIC-LOCATION:Europe/Vienna
BEGIN:DAYLIGHT
DTSTART:20160327T030000
TZOFFSETFROM:+0100
TZOFFSETTO:+0200
TZNAME:CEST
END:DAYLIGHT
END:VTIMEZONE
END:VCALENDAR