BEGIN:VCALENDAR
VERSION:2.0
PRODID:-//wp-events-plugin.com//7.2.2.3//EN
BEGIN:VEVENT
UID:2133@alte-werkstatt.org
DTSTART;TZID=Europe/Vienna:20170224T163000
DTEND;TZID=Europe/Vienna:20170226T173000
DTSTAMP:20161008T105444Z
URL:http://www.alte-werkstatt.org/veranstaltungen/gewaltfreie-kommunikatio
 n-einfuehrungsseminar-2/
SUMMARY:Gewaltfreie Kommunikation - Einführungsseminar
DESCRIPTION:Fr 16:30 - So 17:30\nEine Sprache des Herzens
CATEGORIES:Lechner Christian &amp; Pelikan Irma
END:VEVENT
BEGIN:VTIMEZONE
TZID:Europe/Vienna
X-LIC-LOCATION:Europe/Vienna
BEGIN:STANDARD
DTSTART:20161030T020000
TZOFFSETFROM:+0200
TZOFFSETTO:+0100
TZNAME:CET
END:STANDARD
END:VTIMEZONE
END:VCALENDAR