BEGIN:VCALENDAR
VERSION:2.0
PRODID:-//wp-events-plugin.com//7.2.2.3//EN
BEGIN:VEVENT
UID:2132@alte-werkstatt.org
DTSTART;TZID=Europe/Vienna:20170203T143000
DTEND;TZID=Europe/Vienna:20170205T173000
DTSTAMP:20161008T104423Z
URL:http://www.alte-werkstatt.org/veranstaltungen/gewaltfreie-kommunikatio
 n-basistraining/
SUMMARY:Gewaltfreie Kommunikation - Basistraining
DESCRIPTION:Fr 14:30 - So 17:30\n3 Wochenenden zur Vertiefung in Gewaltfrei
 er Kommunikation
CATEGORIES:Lechner Christian &amp; Pelikan Irma
END:VEVENT
BEGIN:VTIMEZONE
TZID:Europe/Vienna
X-LIC-LOCATION:Europe/Vienna
BEGIN:STANDARD
DTSTART:20161030T020000
TZOFFSETFROM:+0200
TZOFFSETTO:+0100
TZNAME:CET
END:STANDARD
END:VTIMEZONE
END:VCALENDAR