BEGIN:VCALENDAR
VERSION:2.0
PRODID:-//wp-events-plugin.com//7.2.2.3//EN
BEGIN:VEVENT
UID:11221@alte-werkstatt.org
DTSTART:20260423T173000Z
DTEND:20260423T183000Z
DTSTAMP:20260413T103526Z
URL:http://www.alte-werkstatt.org/veranstaltungen/geschlossene-veranstaltu
 ng-39/
SUMMARY:Geschlossene Veranstaltung
DESCRIPTION:19:30 -20:30
CATEGORIES:Diverse
END:VEVENT
END:VCALENDAR