BEGIN:VCALENDAR
VERSION:2.0
PRODID:-//wp-events-plugin.com//7.2.2.3//EN
BEGIN:VEVENT
UID:11220@alte-werkstatt.org
DTSTART:20260421T173000Z
DTEND:20260421T183000Z
DTSTAMP:20260413T103430Z
URL:http://www.alte-werkstatt.org/veranstaltungen/geschlossene-veranstaltu
 ng-38/
SUMMARY:Geschlossene Veranstaltung
DESCRIPTION:19:30 -20:30
CATEGORIES:Diverse
END:VEVENT
END:VCALENDAR