BEGIN:VCALENDAR
VERSION:2.0
PRODID:-//wp-events-plugin.com//7.2.2.3//EN
BEGIN:VEVENT
UID:11218@alte-werkstatt.org
DTSTART:20260414T173000Z
DTEND:20260414T183000Z
DTSTAMP:20260413T103302Z
URL:http://www.alte-werkstatt.org/veranstaltungen/geschlossene-veranstaltu
 ng-32/
SUMMARY:Geschlossene Veranstaltung
DESCRIPTION:19:30 -20:30
CATEGORIES:Diverse
END:VEVENT
END:VCALENDAR