BEGIN:VCALENDAR
VERSION:2.0
PRODID:-//wp-events-plugin.com//7.2.2.3//EN
BEGIN:VEVENT
UID:10484@alte-werkstatt.org
DTSTART;TZID=Europe/Vienna:20250817T180000
DTEND;TZID=Europe/Vienna:20250817T220000
DTSTAMP:20250702T081613Z
URL:http://www.alte-werkstatt.org/veranstaltungen/geburtstagstanzerei/
SUMMARY:Geburtstagstanzerei
DESCRIPTION:18:00 - 22:00
CATEGORIES:Diverse
END:VEVENT
BEGIN:VTIMEZONE
TZID:Europe/Vienna
X-LIC-LOCATION:Europe/Vienna
BEGIN:DAYLIGHT
DTSTART:20250330T030000
TZOFFSETFROM:+0100
TZOFFSETTO:+0200
TZNAME:CEST
END:DAYLIGHT
END:VTIMEZONE
END:VCALENDAR