BEGIN:VCALENDAR
VERSION:2.0
PRODID:-//wp-events-plugin.com//7.2.2.3//EN
BEGIN:VEVENT
UID:10894@alte-werkstatt.org
DTSTART:20260626T063000Z
DTEND:20260626T080000Z
DTSTAMP:20251126T101240Z
URL:http://www.alte-werkstatt.org/veranstaltungen/freitag-morgen-yoga-18-2
 026-06-05-2026-06-12-2026-06-19-2026-06-26/
SUMMARY:Freitag Morgen Yoga
DESCRIPTION:08:30 - 10:00
CATEGORIES:Tscherni Sascha
END:VEVENT
END:VCALENDAR