BEGIN:VCALENDAR
VERSION:2.0
PRODID:-//wp-events-plugin.com//7.2.2.3//EN
BEGIN:VEVENT
UID:10889@alte-werkstatt.org
DTSTART:20260522T063000Z
DTEND:20260522T080000Z
DTSTAMP:20251126T101022Z
URL:http://www.alte-werkstatt.org/veranstaltungen/freitag-morgen-yoga-17-2
 026-05-08-2026-05-15-2026-05-22/
SUMMARY:Freitag Morgen Yoga
DESCRIPTION:08:30 - 10:00
CATEGORIES:Tscherni Sascha
END:VEVENT
END:VCALENDAR