BEGIN:VCALENDAR
VERSION:2.0
PRODID:-//wp-events-plugin.com//7.2.2.3//EN
BEGIN:VEVENT
UID:10885@alte-werkstatt.org
DTSTART:20260424T063000Z
DTEND:20260424T080000Z
DTSTAMP:20251126T100742Z
URL:http://www.alte-werkstatt.org/veranstaltungen/freitag-morgen-yoga-16-2
 026-04-10-2026-04-17-2026-04-24/
SUMMARY:Freitag Morgen Yoga
DESCRIPTION:08:30 - 10:00
CATEGORIES:Tscherni Sascha
END:VEVENT
END:VCALENDAR