BEGIN:VCALENDAR
VERSION:2.0
PRODID:-//wp-events-plugin.com//7.2.2.3//EN
BEGIN:VEVENT
UID:1323@alte-werkstatt.org
DTSTART;TZID=Europe/Vienna:20160228T100000
DTEND;TZID=Europe/Vienna:20160228T170000
DTSTAMP:20160306T133806Z
URL:http://www.alte-werkstatt.org/veranstaltungen/frauen-kleidertausch/
SUMMARY:Frauen-Kleidertausch
DESCRIPTION:11:00 - 16:00
CATEGORIES:Both Silvia,Maresch Petra
END:VEVENT
BEGIN:VTIMEZONE
TZID:Europe/Vienna
X-LIC-LOCATION:Europe/Vienna
BEGIN:STANDARD
DTSTART:20151025T020000
TZOFFSETFROM:+0200
TZOFFSETTO:+0100
TZNAME:CET
END:STANDARD
END:VTIMEZONE
END:VCALENDAR