BEGIN:VCALENDAR
VERSION:2.0
PRODID:-//wp-events-plugin.com//7.2.2.3//EN
BEGIN:VEVENT
UID:2134@alte-werkstatt.org
DTSTART;TZID=Europe/Vienna:20161113T100000
DTEND;TZID=Europe/Vienna:20161113T170000
DTSTAMP:20161008T162749Z
URL:http://www.alte-werkstatt.org/veranstaltungen/frauen-kleidertausch-2/
SUMMARY:Frauen-Kleidertausch
DESCRIPTION:11:00 - 16:00
CATEGORIES:Both Silvia,Maresch Petra
END:VEVENT
BEGIN:VTIMEZONE
TZID:Europe/Vienna
X-LIC-LOCATION:Europe/Vienna
BEGIN:STANDARD
DTSTART:20161030T020000
TZOFFSETFROM:+0200
TZOFFSETTO:+0100
TZNAME:CET
END:STANDARD
END:VTIMEZONE
END:VCALENDAR