BEGIN:VCALENDAR
VERSION:2.0
PRODID:-//wp-events-plugin.com//7.2.2.3//EN
BEGIN:VEVENT
UID:1322@alte-werkstatt.org
DTSTART;TZID=Europe/Vienna:20160215T103000
DTEND;TZID=Europe/Vienna:20160215T113000
DTSTAMP:20160306T133318Z
URL:http://www.alte-werkstatt.org/veranstaltungen/fototermin/
SUMMARY:Fototermin
DESCRIPTION:10:30 - 11:30\ngeschlossene Veranstaltung
CATEGORIES:Sova Ursula
END:VEVENT
BEGIN:VTIMEZONE
TZID:Europe/Vienna
X-LIC-LOCATION:Europe/Vienna
BEGIN:STANDARD
DTSTART:20151025T020000
TZOFFSETFROM:+0200
TZOFFSETTO:+0100
TZNAME:CET
END:STANDARD
END:VTIMEZONE
END:VCALENDAR