BEGIN:VCALENDAR
VERSION:2.0
PRODID:-//wp-events-plugin.com//7.2.2.3//EN
BEGIN:VEVENT
UID:2131@alte-werkstatt.org
DTSTART;TZID=Europe/Vienna:20161008T140000
DTEND;TZID=Europe/Vienna:20161008T190000
DTSTAMP:20161008T095917Z
URL:http://www.alte-werkstatt.org/veranstaltungen/fotoshooting/
SUMMARY:Fotoshooting
DESCRIPTION:14:00 - 19:00\ngeschlossene Veranstaltung
CATEGORIES:Diverse
END:VEVENT
BEGIN:VTIMEZONE
TZID:Europe/Vienna
X-LIC-LOCATION:Europe/Vienna
BEGIN:DAYLIGHT
DTSTART:20160327T030000
TZOFFSETFROM:+0100
TZOFFSETTO:+0200
TZNAME:CEST
END:DAYLIGHT
END:VTIMEZONE
END:VCALENDAR