BEGIN:VCALENDAR
VERSION:2.0
PRODID:-//wp-events-plugin.com//7.2.2.3//EN
BEGIN:VEVENT
UID:8791@alte-werkstatt.org
DTSTART;TZID=Europe/Vienna:20240626T101500
DTEND;TZID=Europe/Vienna:20240626T113000
DTSTAMP:20240108T211627Z
URL:http://www.alte-werkstatt.org/veranstaltungen/feldenkrais-2024-06-26/
SUMMARY:Feldenkrais®
DESCRIPTION:10:15 - 11:30
CATEGORIES:Diverse
END:VEVENT
BEGIN:VTIMEZONE
TZID:Europe/Vienna
X-LIC-LOCATION:Europe/Vienna
BEGIN:DAYLIGHT
DTSTART:20240331T030000
TZOFFSETFROM:+0100
TZOFFSETTO:+0200
TZNAME:CEST
END:DAYLIGHT
END:VTIMEZONE
END:VCALENDAR