BEGIN:VCALENDAR
VERSION:2.0
PRODID:-//wp-events-plugin.com//7.2.2.3//EN
BEGIN:VEVENT
UID:10483@alte-werkstatt.org
DTSTART;TZID=Europe/Vienna:20250720T140000
DTEND;TZID=Europe/Vienna:20250720T160000
DTSTAMP:20250707T134317Z
URL:http://www.alte-werkstatt.org/veranstaltungen/family-contact-jam-3/
SUMMARY:Family Contact Jam
DESCRIPTION:14:00 - 16:00
CATEGORIES:Diverse
END:VEVENT
BEGIN:VTIMEZONE
TZID:Europe/Vienna
X-LIC-LOCATION:Europe/Vienna
BEGIN:DAYLIGHT
DTSTART:20250330T030000
TZOFFSETFROM:+0100
TZOFFSETTO:+0200
TZNAME:CEST
END:DAYLIGHT
END:VTIMEZONE
END:VCALENDAR