BEGIN:VCALENDAR
VERSION:2.0
PRODID:-//wp-events-plugin.com//7.2.2.3//EN
BEGIN:VEVENT
UID:11208@alte-werkstatt.org
DTSTART:20260421T161500Z
DTEND:20260421T171500Z
DTSTAMP:20260324T131418Z
URL:http://www.alte-werkstatt.org/veranstaltungen/entspannt-und-aufrecht-4
 1-2026-04-14-2026-04-21/
SUMMARY:Entspannt und Aufrecht
DESCRIPTION:18:15 - 19:15\nImpulse für Haltung und Gesundheit
CATEGORIES:Schindler Ulrike
END:VEVENT
END:VCALENDAR