BEGIN:VCALENDAR
VERSION:2.0
PRODID:-//wp-events-plugin.com//7.2.2.3//EN
BEGIN:VEVENT
UID:11216@alte-werkstatt.org
DTSTART:20260616T161500Z
DTEND:20260616T171500Z
DTSTAMP:20260324T131418Z
URL:http://www.alte-werkstatt.org/veranstaltungen/entspannt-und-aufrecht-4
 1-2026-04-14-2026-04-21-2026-04-28-2026-05-05-2026-05-12-2026-05-19-2026-0
 5-26-2026-06-02-2026-06-09-2026-06-16/
SUMMARY:Entspannt und Aufrecht
DESCRIPTION:18:15 - 19:15\nImpulse für Haltung und Gesundheit
CATEGORIES:Schindler Ulrike
END:VEVENT
END:VCALENDAR