BEGIN:VCALENDAR
VERSION:2.0
PRODID:-//wp-events-plugin.com//7.2.2.3//EN
BEGIN:VEVENT
UID:10504@alte-werkstatt.org
DTSTART;TZID=Europe/Vienna:20251120T181500
DTEND;TZID=Europe/Vienna:20251120T191500
DTSTAMP:20250903T092228Z
URL:http://www.alte-werkstatt.org/veranstaltungen/entspannt-und-aufrecht-4
 0-2025-11-20/
SUMMARY:Entspannt und Aufrecht
DESCRIPTION:18:15 - 19:15\nImpulse für Haltung und Gesundheit
CATEGORIES:Schindler Ulrike
END:VEVENT
BEGIN:VTIMEZONE
TZID:Europe/Vienna
X-LIC-LOCATION:Europe/Vienna
BEGIN:STANDARD
DTSTART:20251026T020000
TZOFFSETFROM:+0200
TZOFFSETTO:+0100
TZNAME:CET
END:STANDARD
END:VTIMEZONE
END:VCALENDAR