BEGIN:VCALENDAR
VERSION:2.0
PRODID:-//wp-events-plugin.com//7.2.2.3//EN
BEGIN:VEVENT
UID:10500@alte-werkstatt.org
DTSTART;TZID=Europe/Vienna:20251023T181500
DTEND;TZID=Europe/Vienna:20251023T191500
DTSTAMP:20250903T092155Z
URL:http://www.alte-werkstatt.org/veranstaltungen/entspannt-und-aufrecht-3
 9-2025-10-23/
SUMMARY:Entspannt und Aufrecht
DESCRIPTION:18:15 - 19:15\nImpulse für Haltung und Gesundheit
CATEGORIES:Schindler Ulrike
END:VEVENT
BEGIN:VTIMEZONE
TZID:Europe/Vienna
X-LIC-LOCATION:Europe/Vienna
BEGIN:DAYLIGHT
DTSTART:20250330T030000
TZOFFSETFROM:+0100
TZOFFSETTO:+0200
TZNAME:CEST
END:DAYLIGHT
END:VTIMEZONE
END:VCALENDAR