BEGIN:VCALENDAR
VERSION:2.0
PRODID:-//wp-events-plugin.com//7.2.2.3//EN
BEGIN:VEVENT
UID:10494@alte-werkstatt.org
DTSTART;TZID=Europe/Vienna:20251119T090000
DTEND;TZID=Europe/Vienna:20251119T100000
DTSTAMP:20250903T092210Z
URL:http://www.alte-werkstatt.org/veranstaltungen/entspannt-und-aufrecht-3
 8-2025-11-19/
SUMMARY:Entspannt und Aufrecht
DESCRIPTION:09:00 - 10:00 \nImpulse für Haltung und Gesundheit
CATEGORIES:Schindler Ulrike
END:VEVENT
BEGIN:VTIMEZONE
TZID:Europe/Vienna
X-LIC-LOCATION:Europe/Vienna
BEGIN:STANDARD
DTSTART:20251026T020000
TZOFFSETFROM:+0200
TZOFFSETTO:+0100
TZNAME:CET
END:STANDARD
END:VTIMEZONE
END:VCALENDAR