BEGIN:VCALENDAR
VERSION:2.0
PRODID:-//wp-events-plugin.com//7.2.2.3//EN
BEGIN:VEVENT
UID:8169@alte-werkstatt.org
DTSTART;TZID=Europe/Vienna:20230920T183000
DTEND;TZID=Europe/Vienna:20230920T203000
DTSTAMP:20230626T102849Z
URL:http://www.alte-werkstatt.org/veranstaltungen/elternzeit-fuer-spielrau
 m-eltern-4/
SUMMARY:Elternzeit für SpielRaum-Eltern
DESCRIPTION:18:30 - 20:30
CATEGORIES:Pöhl Evelyn Saphira
END:VEVENT
BEGIN:VTIMEZONE
TZID:Europe/Vienna
X-LIC-LOCATION:Europe/Vienna
BEGIN:DAYLIGHT
DTSTART:20230326T030000
TZOFFSETFROM:+0100
TZOFFSETTO:+0200
TZNAME:CEST
END:DAYLIGHT
END:VTIMEZONE
END:VCALENDAR