BEGIN:VCALENDAR
VERSION:2.0
PRODID:-//wp-events-plugin.com//7.2.2.3//EN
BEGIN:VEVENT
UID:11203@alte-werkstatt.org
DTSTART:20260508T140000Z
DTEND:20260508T153000Z
DTSTAMP:20260313T133737Z
URL:http://www.alte-werkstatt.org/veranstaltungen/eltern-kind-yoga-1-6-j-2
 /
SUMMARY:Eltern-Kind-Yoga (1-6 J.)
DESCRIPTION:16:00 - 17:30
CATEGORIES:Dallinger Lisa
END:VEVENT
END:VCALENDAR