BEGIN:VCALENDAR
VERSION:2.0
PRODID:-//wp-events-plugin.com//7.2.2.3//EN
BEGIN:VEVENT
UID:1326@alte-werkstatt.org
DTSTART;TZID=Europe/Vienna:20160312T090000
DTEND;TZID=Europe/Vienna:20160312T130000
DTSTAMP:20160421T231120Z
URL:http://www.alte-werkstatt.org/veranstaltungen/eltern-gespraechsraum-3/
SUMMARY:Eltern-GesprächsRaum
DESCRIPTION:09:00 - 13:00
CATEGORIES:Pöhl Evelyn Saphira
END:VEVENT
BEGIN:VTIMEZONE
TZID:Europe/Vienna
X-LIC-LOCATION:Europe/Vienna
BEGIN:STANDARD
DTSTART:20151025T020000
TZOFFSETFROM:+0200
TZOFFSETTO:+0100
TZNAME:CET
END:STANDARD
END:VTIMEZONE
END:VCALENDAR