BEGIN:VCALENDAR
VERSION:2.0
PRODID:-//wp-events-plugin.com//7.2.2.3//EN
BEGIN:VEVENT
UID:10984@alte-werkstatt.org
DTSTART:20260415T171500Z
DTEND:20260415T190000Z
DTSTAMP:20251211T143554Z
URL:http://www.alte-werkstatt.org/veranstaltungen/einfach-yoga-3-2026-04-1
 5/
SUMMARY:Einfach Yoga
DESCRIPTION:19:15 - 21:00
CATEGORIES:Holzer Andrea
END:VEVENT
END:VCALENDAR