BEGIN:VCALENDAR
VERSION:2.0
PRODID:-//wp-events-plugin.com//7.2.2.3//EN
BEGIN:VEVENT
UID:10976@alte-werkstatt.org
DTSTART:20260211T171500Z
DTEND:20260211T190000Z
DTSTAMP:20251211T143200Z
URL:http://www.alte-werkstatt.org/veranstaltungen/einfach-yoga-2026-02-11/
SUMMARY:Einfach Yoga
DESCRIPTION:19:15 - 21:00
CATEGORIES:Holzer Andrea
END:VEVENT
END:VCALENDAR