BEGIN:VCALENDAR
VERSION:2.0
PRODID:-//wp-events-plugin.com//7.2.2.3//EN
BEGIN:VEVENT
UID:10982@alte-werkstatt.org
DTSTART:20260325T171500Z
DTEND:20260325T190000Z
DTSTAMP:20251211T143333Z
URL:http://www.alte-werkstatt.org/veranstaltungen/einfach-yoga-2-2026-03-1
 8-2026-03-25/
SUMMARY:Einfach Yoga
DESCRIPTION:19:15 - 21:00
CATEGORIES:Holzer Andrea
END:VEVENT
END:VCALENDAR