BEGIN:VCALENDAR
VERSION:2.0
PRODID:-//wp-events-plugin.com//7.2.2.3//EN
BEGIN:VEVENT
UID:11225@alte-werkstatt.org
DTSTART:20260508T044500Z
DTEND:20260508T061500Z
DTSTAMP:20260416T062232Z
URL:http://www.alte-werkstatt.org/veranstaltungen/early-morning-yoga-2026-
 05-08/
SUMMARY:Early Morning Yoga
DESCRIPTION:06:45 - 08:15
CATEGORIES:Tscherni Sascha
END:VEVENT
END:VCALENDAR