BEGIN:VCALENDAR
VERSION:2.0
PRODID:-//wp-events-plugin.com//7.2.2.3//EN
BEGIN:VEVENT
UID:8168@alte-werkstatt.org
DTSTART;TZID=Europe/Vienna:20230630T140000
DTEND;TZID=Europe/Vienna:20230630T150000
DTSTAMP:20230619T194711Z
URL:http://www.alte-werkstatt.org/veranstaltungen/e-piano-vorspielen/
SUMMARY:E-Piano Vorspielen
DESCRIPTION:14:00 - 15:00\ngeschlossene Veranstaltung
CATEGORIES:Diverse
END:VEVENT
BEGIN:VTIMEZONE
TZID:Europe/Vienna
X-LIC-LOCATION:Europe/Vienna
BEGIN:DAYLIGHT
DTSTART:20230326T030000
TZOFFSETFROM:+0100
TZOFFSETTO:+0200
TZNAME:CEST
END:DAYLIGHT
END:VTIMEZONE
END:VCALENDAR