BEGIN:VCALENDAR
VERSION:2.0
PRODID:-//wp-events-plugin.com//7.2.2.3//EN
BEGIN:VEVENT
UID:1297@alte-werkstatt.org
DTSTART;TZID=Europe/Vienna:20160303T173000
DTEND;TZID=Europe/Vienna:20160303T200000
DTSTAMP:20160304T191253Z
URL:http://www.alte-werkstatt.org/veranstaltungen/das-frauenzimmer/
SUMMARY:"das Frauenzimmer"
DESCRIPTION:18:00 - 21:00\nUnser Angebot richtet sich an all jene Frauen\, 
 die sich mit ihrer eigenen Persönlichkeit auseinandersetzen und mehr Gela
 ssenheit\, Lebensfreude und Mut erlangen wollen.
CATEGORIES:Both Silvia,Ibser Veronika
END:VEVENT
BEGIN:VTIMEZONE
TZID:Europe/Vienna
X-LIC-LOCATION:Europe/Vienna
BEGIN:STANDARD
DTSTART:20151025T020000
TZOFFSETFROM:+0200
TZOFFSETTO:+0100
TZNAME:CET
END:STANDARD
END:VTIMEZONE
END:VCALENDAR