BEGIN:VCALENDAR
VERSION:2.0
PRODID:-//wp-events-plugin.com//7.2.2.3//EN
BEGIN:VEVENT
UID:1299@alte-werkstatt.org
DTSTART;TZID=Europe/Vienna:20160407T173000
DTEND;TZID=Europe/Vienna:20160407T210000
DTSTAMP:20160304T191740Z
URL:http://www.alte-werkstatt.org/veranstaltungen/das-frauenzimmer-3/
SUMMARY:"das Frauenzimmer"
DESCRIPTION:18:00 - 21:00\nUnser Angebot richtet sich an all jene Frauen\, 
 die sich mit ihrer eigenen Persönlichkeit auseinandersetzen und mehr Gela
 ssenheit\, Lebensfreude und Mut erlangen wollen.
CATEGORIES:Both Silvia,Ibser Veronika
END:VEVENT
BEGIN:VTIMEZONE
TZID:Europe/Vienna
X-LIC-LOCATION:Europe/Vienna
BEGIN:DAYLIGHT
DTSTART:20160327T030000
TZOFFSETFROM:+0100
TZOFFSETTO:+0200
TZNAME:CEST
END:DAYLIGHT
END:VTIMEZONE
END:VCALENDAR