BEGIN:VCALENDAR
VERSION:2.0
PRODID:-//wp-events-plugin.com//7.2.2.3//EN
BEGIN:VEVENT
UID:2130@alte-werkstatt.org
DTSTART;TZID=Europe/Vienna:20160928T123000
DTEND;TZID=Europe/Vienna:20160928T140000
DTSTAMP:20161001T113516Z
URL:http://www.alte-werkstatt.org/veranstaltungen/chladek-24/
SUMMARY:CHLADEK
DESCRIPTION:12:30 - 14:00\ngeschlossene Veranstaltung
CATEGORIES:Altmutter Christina
END:VEVENT
BEGIN:VTIMEZONE
TZID:Europe/Vienna
X-LIC-LOCATION:Europe/Vienna
BEGIN:DAYLIGHT
DTSTART:20160327T030000
TZOFFSETFROM:+0100
TZOFFSETTO:+0200
TZNAME:CEST
END:DAYLIGHT
END:VTIMEZONE
END:VCALENDAR