BEGIN:VCALENDAR
VERSION:2.0
PRODID:-//wp-events-plugin.com//7.2.2.3//EN
BEGIN:VEVENT
UID:1317@alte-werkstatt.org
DTSTART;TZID=Europe/Vienna:20160226T103000
DTEND;TZID=Europe/Vienna:20160226T123000
DTSTAMP:20160306T132110Z
URL:http://www.alte-werkstatt.org/veranstaltungen/chladek-2016-02-26/
SUMMARY:Chladek
DESCRIPTION:10:30 - 12:30\ngeschlossene Veranstaltung
CATEGORIES:Altmutter Christina
END:VEVENT
BEGIN:VTIMEZONE
TZID:Europe/Vienna
X-LIC-LOCATION:Europe/Vienna
BEGIN:STANDARD
DTSTART:20151025T020000
TZOFFSETFROM:+0200
TZOFFSETTO:+0100
TZNAME:CET
END:STANDARD
END:VTIMEZONE
END:VCALENDAR