BEGIN:VCALENDAR
VERSION:2.0
PRODID:-//wp-events-plugin.com//7.2.2.3//EN
BEGIN:VEVENT
UID:1543@alte-werkstatt.org
DTSTART;TZID=Europe/Vienna:20170123T163000
DTEND;TZID=Europe/Vienna:20170123T180000
DTSTAMP:20160728T101427Z
URL:http://www.alte-werkstatt.org/veranstaltungen/cardiac-yoga-2-2017-01-2
 3/
SUMMARY:Cardiac Yoga
DESCRIPTION:16:30 - 18:00\nYoga für das Herz
CATEGORIES:Follner Adelheid
END:VEVENT
BEGIN:VTIMEZONE
TZID:Europe/Vienna
X-LIC-LOCATION:Europe/Vienna
BEGIN:STANDARD
DTSTART:20161030T020000
TZOFFSETFROM:+0200
TZOFFSETTO:+0100
TZNAME:CET
END:STANDARD
END:VTIMEZONE
END:VCALENDAR