BEGIN:VCALENDAR
VERSION:2.0
PRODID:-//wp-events-plugin.com//7.2.2.3//EN
BEGIN:VEVENT
UID:11198@alte-werkstatt.org
DTSTART:20261009T140000Z
DTEND:20261011T140000Z
DTSTAMP:20260226T130518Z
URL:http://www.alte-werkstatt.org/veranstaltungen/art-of-the-moment/
SUMMARY:Art of the Moment
DESCRIPTION:Fr 16:00 - 21:00\nSa 10:00 - 18:00\nSo 10:00 - 16:00
CATEGORIES:Diverse
END:VEVENT
END:VCALENDAR