BEGIN:VCALENDAR
VERSION:2.0
PRODID:-//wp-events-plugin.com//7.2.2.3//EN
BEGIN:VEVENT
UID:11199@alte-werkstatt.org
DTSTART:20270507T140000Z
DTEND:20270509T140000Z
DTSTAMP:20260226T130631Z
URL:http://www.alte-werkstatt.org/veranstaltungen/art-of-the-moment-2/
SUMMARY:Art of the Moment
DESCRIPTION:Fr 16:00 - 21:00\nSa 10:00 - 18:00\nSo 10:00 - 16:00
CATEGORIES:Diverse
END:VEVENT
END:VCALENDAR