BEGIN:VCALENDAR
VERSION:2.0
PRODID:-//wp-events-plugin.com//7.2.2.3//EN
BEGIN:VEVENT
UID:11033@alte-werkstatt.org
DTSTART;VALUE=DATE:20260516
DTEND;VALUE=DATE:20260517
DTSTAMP:20260123T093650Z
URL:http://www.alte-werkstatt.org/veranstaltungen/andrea-m/
SUMMARY:? Andrea M.
DESCRIPTION:...Details folgen...\n\nKontakt: Andrea Meißl
CATEGORIES:Diverse
END:VEVENT
END:VCALENDAR