BEGIN:VCALENDAR
VERSION:2.0
PRODID:-//wp-events-plugin.com//7.2.2.3//EN
BEGIN:VEVENT
UID:11073@alte-werkstatt.org
DTSTART;VALUE=DATE:20260523
DTEND;VALUE=DATE:20260524
DTSTAMP:20260123T093711Z
URL:http://www.alte-werkstatt.org/veranstaltungen/andrea-m-2/
SUMMARY:? Andrea M.
DESCRIPTION:...Details folgen...\n\nKontakt: Andrea Meißl
CATEGORIES:Diverse
END:VEVENT
END:VCALENDAR