BEGIN:VCALENDAR
VERSION:2.0
PRODID:-//wp-events-plugin.com//7.2.2.3//EN
BEGIN:VEVENT
UID:2128@alte-werkstatt.org
DTSTART;TZID=Europe/Vienna:20161023T100000
DTEND;TZID=Europe/Vienna:20161023T180000
DTSTAMP:20161008T102112Z
URL:http://www.alte-werkstatt.org/veranstaltungen/access-bars-tageskurs/
SUMMARY:Access Bars - Tageskurs
DESCRIPTION:10:00 - 18:00\nAccess Bars sind 32 Energiepunkte am Kopf\, dene
 n spezifische Bereiche unseres Lebens zugeordnet sind. Durch sanftes Berü
 hren kommt es zu einer elektromagnetischen Entladung\, wodurch all unsere 
 limitierenden Ansichten\, Glaubenssätze\, Emotionen und Begrenzungen zers
 tört und gelöscht werden und wir uns von ihnen lösen können.
CATEGORIES:Diverse
END:VEVENT
BEGIN:VTIMEZONE
TZID:Europe/Vienna
X-LIC-LOCATION:Europe/Vienna
BEGIN:DAYLIGHT
DTSTART:20160327T030000
TZOFFSETFROM:+0100
TZOFFSETTO:+0200
TZNAME:CEST
END:DAYLIGHT
END:VTIMEZONE
END:VCALENDAR