BEGIN:VCALENDAR
VERSION:2.0
PRODID:-//wp-events-plugin.com//7.2.2.3//EN
BEGIN:VEVENT
UID:2127@alte-werkstatt.org
DTSTART;TZID=Europe/Vienna:20161009T110000
DTEND;TZID=Europe/Vienna:20161009T170000
DTSTAMP:20160920T121954Z
URL:http://www.alte-werkstatt.org/veranstaltungen/1st-laic-probt/
SUMMARY:1st LAIC probt
DESCRIPTION:11:00 - 17:00\ngeschlossene Veranstaltung
CATEGORIES:Diverse
END:VEVENT
BEGIN:VTIMEZONE
TZID:Europe/Vienna
X-LIC-LOCATION:Europe/Vienna
BEGIN:DAYLIGHT
DTSTART:20160327T030000
TZOFFSETFROM:+0100
TZOFFSETTO:+0200
TZNAME:CEST
END:DAYLIGHT
END:VTIMEZONE
END:VCALENDAR