BEGIN:VCALENDAR
VERSION:2.0
PRODID:-//wp-events-plugin.com//7.2.2.3//EN
BEGIN:VEVENT
UID:2543@alte-werkstatt.org
DTSTART;TZID=Europe/Vienna:20170330T170000
DTEND;TZID=Europe/Vienna:20170330T190000
DTSTAMP:20170321T114546Z
URL:http://www.alte-werkstatt.org/veranstaltungen/1st-laic-probt-2-2017-03
 -09/
SUMMARY:1st LAIC probt
DESCRIPTION:17:00 - 19:00\ngeschlossene Veranstaltung
CATEGORIES:Leyrer Beate
END:VEVENT
BEGIN:VTIMEZONE
TZID:Europe/Vienna
X-LIC-LOCATION:Europe/Vienna
BEGIN:DAYLIGHT
DTSTART:20170326T030000
TZOFFSETFROM:+0100
TZOFFSETTO:+0200
TZNAME:CEST
END:DAYLIGHT
END:VTIMEZONE
END:VCALENDAR